Workbook
Name list_priority: [1]Geral!$G$99:$G$103
Name list_type: [1]Geral!$C$99:$C$103
Name SegmentaçãodeDados_Vela: #N/A
Name SegmentaçãodeDados_Vela1: #N/A

Sheet Dashboard

Sheet Caixa
A1: 🕯️ | C1: Caixa | E1: O faturamento representa todas às suas vendas e receitas em um período. Não confunda com receita líquida. | G1: A Receita Líquida é a seguinte: faturamento - produção - despesas. O resultado é o seu lucro.
C5: 🛒 | D5: Faturamento | G5: Total: | H5: =SUMIF(Tabela5[Status],"Venda",Tabela5[Total]) -> 943.4
C6: Status | D6: Vela | E6: Cliente | F6: Pagamento | G6: Data | H6: Mês | I6: Prioridade | J6: Qtd | K6: Vlr. Unitário | L6: Total
C7: Venda | D7: Decorativa | E7: Joana | F7: Pix | G7: 46054 | H7: =PROPER(TEXT(G7,"Mmmm")) -> Fevereiro | I7: Alta | J7: 50 | K7: 9.5 | L7: =Tabela5[[#This Row],[Vlr. Unitário]]*Tabela5[[#This Row],[Qtd]] -> 475
C8: Venda | D8: Decorativa | E8: Joana | F8: Pix | G8: 46054 | H8: =PROPER(TEXT(G8,"Mmmm")) -> Fevereiro | I8: Alta | J8: 5 | K8: 10.9 | L8: =Tabela5[[#This Row],[Vlr. Unitário]]*Tabela5[[#This Row],[Qtd]] -> 54.5
C9: Venda | D9: Pote pequeno | E9: Gabriela | F9: Cartão | G9: 46055 | H9: =PROPER(TEXT(G9,"Mmmm")) -> Fevereiro | I9: Padrão | J9: 4 | K9: 25.9 | L9: =Tabela5[[#This Row],[Vlr. Unitário]]*Tabela5[[#This Row],[Qtd]] -> 103.6
C10: Venda | D10: Pote grande | E10: Pietra | F10: Cartão | G10: 46056 | H10: =PROPER(TEXT(G10,"Mmmm")) -> Fevereiro | I10: Padrão | J10: 2 | K10: 39.4 | L10: =Tabela5[[#This Row],[Vlr. Unitário]]*Tabela5[[#This Row],[Qtd]] -> 78.8
C11: Venda | D11: Pote médio | E11: Silvana | F11: Cartão | G11: 46057 | H11: =PROPER(TEXT(G11,"Mmmm")) -> Fevereiro | I11: Padrão | J11: 5 | K11: 45.9 | L11: =Tabela5[[#This Row],[Vlr. Unitário]]*Tabela5[[#This Row],[Qtd]] -> 229.5
C12: Venda | D12: Pote pequeno | E12: Silvana | F12: Cartão | G12: 46057 | H12: =PROPER(TEXT(G12,"Mmmm")) -> Fevereiro | I12: Padrão | J12: 2 | K12: 1 | L12: =Tabela5[[#This Row],[Vlr. Unitário]]*Tabela5[[#This Row],[Qtd]] -> 2
C14: 📦 | D14: Estoques | E14: Inicial: | F14: =SUM(Tabela9[[#All],[Produzidas]]) -> 70 | G14: Depreciando: | H14: =SUM(Tabela55[[#All],[Total]]) -> 335
C15: Status | D15: Vela | E15: Data | F15: Mês | G15: Prioridade | H15: Produzidas | I15: Vendas | J15: Estoque
C16: Venda | D16: Decorativa | E16: 46054 | F16: =PROPER(TEXT(E16,"Mmmm")) -> Fevereiro | G16: Alta | H16: =Produção!I7 -> 20 | I16: =SUMIFS(Tabela5[Qtd],Tabela5[Vela],Tabela9[[#This Row],[Vela]]) -> 55 | J16: =Tabela9[[#This Row],[Produzidas]]-Tabela9[[#This Row],[Vendas]] -> -35
C17: Venda | D17: Pote pequeno | E17: 46054 | F17: =PROPER(TEXT(E17,"Mmmm")) -> Fevereiro | G17: Alta | H17: =Produção!I8 -> 10 | I17: =SUMIFS(Tabela5[Qtd],Tabela5[Vela],Tabela9[[#This Row],[Vela]]) -> 6 | J17: =Tabela9[[#This Row],[Produzidas]]-Tabela9[[#This Row],[Vendas]] -> 4
C18: Venda | D18: Pote grande | E18: 46054 | F18: =PROPER(TEXT(E18,"Mmmm")) -> Fevereiro | G18: Alta | H18: =Produção!I9 -> 15 | I18: =SUMIFS(Tabela5[Qtd],Tabela5[Vela],Tabela9[[#This Row],[Vela]]) -> 2 | J18: =Tabela9[[#This Row],[Produzidas]]-Tabela9[[#This Row],[Vendas]] -> 13
C19: Venda | D19: Pote médio | E19: 46054 | F19: =PROPER(TEXT(E19,"Mmmm")) -> Fevereiro | G19: Alta | H19: =Produção!I10 -> 25 | I19: =SUMIFS(Tabela5[Qtd],Tabela5[Vela],Tabela9[[#This Row],[Vela]]) -> 5 | J19: =Tabela9[[#This Row],[Produzidas]]-Tabela9[[#This Row],[Vendas]] -> 20
C21: 📃 | D21: Despesas | G21: Total: | H21: =SUM(Tabela7[Total]) -> 350
C22: Status | D22: Vela | E22: Data | F22: Mês | G22: Prioridade | H22: Total | I22: % do Lucro
C23: Venda | D23: Luz | E23: 46054 | F23: =PROPER(TEXT(E23,"Mmmm")) -> Fevereiro | G23: Padrão | H23: 150 | I23: =Tabela7[[#This Row],[Total]]/H5 -> 0.15899936
C24: Venda | D24: Água | E24: 46054 | F24: =PROPER(TEXT(E24,"Mmmm")) -> Fevereiro | G24: Padrão | H24: 200 | I24: =Tabela7[[#This Row],[Total]]/H5 -> 0.21199915
C26: 💲 | D26: Impostos | G26: Impostos: | H26: =Tabela111[Imposto] -> 86
C27: Tipo | D27: Detalhes | E27: Mês | F27: Faturamento | G27: Imposto | H27: Total
C28: MEI | D28: 81,05 INSS + 5,00 ICMS | E28: 46054 | F28: 123.9 | G28: 86 | H28: =Tabela111[Faturamento]-Tabela111[Imposto] -> 37.9
C30: 💲 | D30: Caixa | E30: Lucro: | F30: =SUM(F32,F33)-F35-F34 -> 2507.4
C31: Tipo | D31: Data | E31: Mês | F31: Total
C32: Capital Inicial | D32: 46054 | E32: =PROPER(TEXT(D32,"Mmmm")) -> Fevereiro | F32: 2000
C33: Vendas | D33: 46054 | E33: =PROPER(TEXT(D33,"Mmmm")) -> Fevereiro | F33: =H5 -> 943.4
C34: Impostos | D34: 46054 | E34: =PROPER(TEXT(D34,"Mmmm")) -> Fevereiro | F34: =H26 -> 86
C35: Despesas | D35: 46054 | E35: =PROPER(TEXT(D35,"Mmmm")) -> Fevereiro | F35: =H21 -> 350
C36: Lucro Líquido | D36: 46054 | E36: =PROPER(TEXT(D36,"Mmmm")) -> Fevereiro | F36: =F32+F33-F35-F34 -> 2507.4 | H36: Capital Inicial + Vendas
C37: Lucro Bruto | D37: 46054 | E37: =PROPER(TEXT(D37,"Mmmm")) -> Fevereiro | F37: =F36-F35 -> 2157.4 | H37: Receita Total - Despesas
C38: Margem | D38: 46054 | E38: =PROPER(TEXT(D38,"Mmmm")) -> Fevereiro | F38: =F37/F36 -> 0.86041318 | H38: Lucro Bruto / Receita Total
C40: 💲 | D40: Formar preço
C41: Produto | D41: Custos/preços | E41: Despesas variáveis | F41: Despesas fixas | G41: Margem | H41: Total | I41: Conta | J41: Markup | K41: Preço de venda
C42: Decorativa | D42: =SUM(Produção!I12,Produção!K20,Produção!K14) -> 9.0714286 | E42: =SUM($H$26/$H$5) -> 0.091159635 | F42: =SUM($H$23,$H$24)/$H$5 -> 0.37099852 | G42: 0.2 | H42: =SUM(E42:G42) -> 0.66215815 | I42: =1/1-H42 -> 0.33784185 | J42: =1/I42 -> 2.9599649 | K42: =J42*D42 -> 26.85111
C43: Pote pequeno | D43: =SUM(Produção!K15,Produção!$I$12,Produção!$K$20) -> 11.171429 | E43: =SUM($H$26/$H$5) -> 0.091159635 | F43: =SUM($H$23,$H$24)/$H$5 -> 0.37099852 | G43: 0.2 | H43: =SUM(E43:G43) -> 0.66215815 | I43: =1/1-H43 -> 0.33784185 | J43: =1/I43 -> 2.9599649 | K43: =J43*D43 -> 33.067036
C44: Pote médio | D44: =SUM(Produção!K16,Produção!$I$12,Produção!$K$20) -> 14.071429 | E44: =SUM($H$26/$H$5) -> 0.091159635 | F44: =SUM($H$23,$H$24)/$H$5 -> 0.37099852 | G44: 0.2 | H44: =SUM(E44:G44) -> 0.66215815 | I44: =1/1-H44 -> 0.33784185 | J44: =1/I44 -> 2.9599649 | K44: =J44*D44 -> 41.650934
C45: Pote grande | D45: =SUM(Produção!K17,Produção!$I$12,Produção!$K$20) -> 16.071429 | E45: =SUM($H$26/$H$5) -> 0.091159635 | F45: =SUM($H$23,$H$24)/$H$5 -> 0.37099852 | G45: 0.2 | H45: =SUM(E45:G45) -> 0.66215815 | I45: =1/1-H45 -> 0.33784185 | J45: =1/I45 -> 2.9599649 | K45: =J45*D45 -> 47.570864
C47: 🕯️ | D47: Fica a dica: | E47: Quando editar algo, vá em Dados e clique em Atualizar Tudo.
C52: Sumário | G52: Prioridade
C53: Insumo | G53: Alta
...

Sheet Caixa-Dinamica
B2: Faturamento | E2: Despesa | H2: Receita Líquida | K2: Caixa
B4: Rótulos de Linha | C4: Soma de Total | E4: Rótulos de Linha | F4: Soma de Total | H4: Soma de Total | K4: Rótulos de Linha | L4: Soma de Total
B5: Aguarde cliente | C5: 6 | E5: Água | F5: 0 | H5: 4595.9916 | K5: Capital Inicial | L5: 2000
B6: Venda | C6: 123.9 | E6: Equipamentos | F6: 500 | K6: Despesas | L6: 845
B7: Total Geral | C7: 129.9 | E7: Luz | F7: 10 | K7: Lucro Bruto | L7: 347.9
E8: Produção | F8: 335 | K8: Margem | L8: 0.29164222
E9: Total Geral | F9: 845 | K9: Vendas | L9: 123.9
K10: Impostos | L10: 86
B11: Rótulos de Linha | C11: Soma de Total | K11: Lucro Líquido | L11: 1192.9
B12: Decorativa | C12: 67.5 | K12: Total Geral | L12: 4595.9916
B13: Pote grande | C13: 6
B14: Pote médio | C14: 32
B15: Pote pequeno | C15: 24.4
B16: Total Geral | C16: 129.9

Sheet Produção
A1: 🔥 | C1: Produção | E1: Produção representa suas despesas para produzir às velas. Ela é descontada do faturamento. | G1: Equipamentos são instrumentos que você utiliza para a manufatura. Despesa de produção.
C5: 🔥 | D5: Produção | F5: Produzidas: | G5: =COUNTIFS(Tabela55[Status],"Produzida") -> 4 | H5: =SUM(Tabela55[Qtd]) -> 70
C6: Status | D6: Vela | E6: Cliente | F6: Data | G6: Mês | H6: Prioridade | I6: Qtd | J6: Vlr. Uni | K6: Total
C7: Produzida | D7: Decorativa | E7: Gabriela | F7: 46055 | G7: =PROPER(TEXT(F7,"Mmmm")) -> Fevereiro | H7: Entregue | I7: 20 | J7: 1 | K7: =Tabela55[[#This Row],[Vlr. Uni]]*Tabela55[[#This Row],[Qtd]] -> 20
C8: Produzida | D8: Pote pequeno | E8: Pietra | F8: 46056 | G8: =PROPER(TEXT(F8,"Mmmm")) -> Fevereiro | H8: Entregue | I8: 10 | J8: 3 | K8: =Tabela55[[#This Row],[Vlr. Uni]]*Tabela55[[#This Row],[Qtd]] -> 30
C9: Produzida | D9: Pote médio | E9: Silvana | F9: 46057 | G9: =PROPER(TEXT(F9,"Mmmm")) -> Fevereiro | H9: Entregue | I9: 15 | J9: 4 | K9: =Tabela55[[#This Row],[Vlr. Uni]]*Tabela55[[#This Row],[Qtd]] -> 60
C10: Produzida | D10: Pote grande | E10: Patrícia | F10: 46058 | G10: =PROPER(TEXT(F10,"Mmmm")) -> Fevereiro | H10: Entregue | I10: 25 | J10: 9 | K10: =Tabela55[[#This Row],[Vlr. Uni]]*Tabela55[[#This Row],[Qtd]] -> 225
C12: 🥄 | D12: Equipamentos | F12: Matéria-prima: | G12: =COUNTIFS(Tabela1[Status],"Matéria-prima") -> 3 | H12: =SUM(J18,J19,J22) -> 250 | I12: =H12/H5 -> 3.5714286
C13: Status | D13: Produto | E13: Data | F13: Mês | G13: Prioridade | H13: Qtd | I13: Vlr. Uni | J13: Total | K13: Custo p/Vela
C14: Insumo | D14: Embalagens | E14: 46054 | F14: =PROPER(TEXT(E14,"Mmmm")) -> Fevereiro | G14: Entregue | H14: 50 | I14: 3.5 | J14: =I14*H14 -> 175 | K14: =Tabela1[[#This Row],[Total]]/Tabela1[[#This Row],[Qtd]] -> 3.5
C15: Insumo | D15: Pote pequeno | E15: 46054 | F15: =PROPER(TEXT(E15,"Mmmm")) -> Fevereiro | G15: Entregue | H15: 10 | I15: 5.6 | J15: =I15*H15 -> 56 | K15: =Tabela1[[#This Row],[Total]]/Tabela1[[#This Row],[Qtd]] -> 5.6
C16: Insumo | D16: Pote médio | E16: 46054 | F16: =PROPER(TEXT(E16,"Mmmm")) -> Fevereiro | G16: Entregue | H16: 10 | I16: 8.5 | J16: =I16*H16 -> 85 | K16: =Tabela1[[#This Row],[Total]]/Tabela1[[#This Row],[Qtd]] -> 8.5
C17: Insumo | D17: Pote grande | E17: 46054 | F17: =PROPER(TEXT(E17,"Mmmm")) -> Fevereiro | G17: Entregue | H17: 10 | I17: 10.5 | J17: =I17*H17 -> 105 | K17: =Tabela1[[#This Row],[Total]]/Tabela1[[#This Row],[Qtd]] -> 10.5
C18: Matéria-prima | D18: Parafinas | E18: 46054 | F18: =PROPER(TEXT(E18,"Mmmm")) -> Fevereiro | G18: Entregue | H18: 50 | I18: 1 | J18: =I18*H18 -> 50 | K18: =Tabela1[[#This Row],[Total]]/Tabela1[[#This Row],[Qtd]] -> 1
C19: Matéria-prima | D19: Essências | E19: 46054 | F19: =PROPER(TEXT(E19,"Mmmm")) -> Fevereiro | G19: Entregue | H19: 50 | I19: 2 | J19: =I19*H19 -> 100 | K19: =Tabela1[[#This Row],[Total]]/Tabela1[[#This Row],[Qtd]] -> 2
C20: Insumo | D20: Etiquetas | E20: 46054 | F20: =PROPER(TEXT(E20,"Mmmm")) -> Fevereiro | G20: Entregue | H20: 30 | I20: 2 | J20: =I20*H20 -> 60 | K20: =Tabela1[[#This Row],[Total]]/Tabela1[[#This Row],[Qtd]] -> 2
C21: Investimento | D21: Panelas | E21: 46054 | F21: =PROPER(TEXT(E21,"Mmmm")) -> Fevereiro | G21: Entregue | H21: 5 | I21: 2 | J21: 0 | K21: =Tabela1[[#This Row],[Total]]/Tabela1[[#This Row],[Qtd]] -> 0
C22: Matéria-prima | D22: Pavios | E22: 46054 | F22: =PROPER(TEXT(E22,"Mmmm")) -> Fevereiro | G22: Entregue | H22: 50 | I22: 2 | J22: =I22*H22 -> 100 | K22: =Tabela1[[#This Row],[Total]]/Tabela1[[#This Row],[Qtd]] -> 2
C23: Investimento | D23: Fogão portátil | E23: 46054 | F23: =PROPER(TEXT(E23,"Mmmm")) -> Fevereiro | G23: Entregue | H23: 1 | I23: 500 | J23: 0 | K23: =Tabela1[[#This Row],[Total]]/Tabela1[[#This Row],[Qtd]] -> 0
C26: 🔥 | D26: Fica a dica: | E26: Quando editar algo, vá em Dados e clique em Atualizar Tudo.
C31: Sumário | G31: Prioridade
C32: Insumo | G32: Atrasado
C33: Produzida | G33: Entregue
C34: Investimento | G34: Padrão
C35: Produzir
C36: Matéria-prima

Sheet Producao-Dinamica
B2: Velas em produção | E2: Estoque
B4: Rótulos de Linha | C4: Soma de Qtd | E4: Rótulos de Linha | F4: Soma de Qtd
B5: Decorativa | C5: 20 | E5: Essências | F5: 50
B6: Pote grande | C6: 25 | E6: Etiquetas | F6: 30
B7: Pote médio | C7: 15 | E7: Fogão portátil | F7: 1
B8: Pote pequeno | C8: 10 | E8: Panelas | F8: 5
B9: Total Geral | C9: 70 | E9: Parafinas | F9: 50
E10: Pavios | F10: 50
E11: Total Geral | F11: 186

Sheet Resultados
B2: 🕯️ | C2: Histórico de Caixa
B3: Mês | C3: Ano | D3: Capital Inicial | E3: Faturamento | F3: Despesas | G3: Impostos | H3: Estoques | I3: Lucro
B4: Fevereiro | C4: 2026 | D4: 2000 | E4: 123.9 | F4: 845 | G4: 86 | H4: 335 | I4: 2390

Sheet Contatos
A2: 🤝 | B2: Clientes | I2: 💼 | J2: Fornecedores
B3: Nome | C3: Telefone | D3: Endereço | E3: CPF/CNPJ | F3: Pedidos | G3: Frete | J3: Nome | K3: Telefone | L3: Endereço | M3: CPF/CNPJ | N3: Pedidos | O3: Quantidade | P3: Vlr. Unitário | Q3: Frete | R3: Total
B4: Rafaela Costa | C4: 55 (11) 9999-9999 | D4: Rua das Figueiras, 99 - Bairro - SP/SP - CEP: 0000 | E4: 000000000-00 | F4: 2 DECORATIVAS | G4: 350 | J4: Casa das Velas | K4: 55 (11) 9999-9999 | L4: Rua das Figueiras, 99 - Bairro - SP/SP - CEP: 0000 | M4: 000000000-00 | N4: Essência Azul | O4: 2 | P4: 3.2 | Q4: 23.5 | R4: =Tabela3[[#This Row],[Vlr. Unitário]]*Tabela3[[#This Row],[Quantidade]]+Tabela3[[#This Row],[Frete]] -> 29.9

Sheet Orçamento
B1: Sua logo | C1: Nome da sua empresa - CPF/CNPJ - Telefone
C2: Rua, Número - Bairro - CEP - Cidade/Estado
B5: Cliente
B6: Endereço
B7: Celular
B8: CPF/CNPJ
B9: Orçamento
B10: Data
B13: ORÇAMENTO DE PRODUTOS E SERVIÇOS
B15: Quantidade | C15: Descrição | E15: Frete | F15: Vlr. Unitário | G15: Total
B16: 1 | C16: Produto 1 | E16: 5.7 | F16: 40 | G16: =F16*B16+E16 -> 45.7
B17: 2 | C17: Produto 2 | E17: 5.7 | F17: 2 | G17: =F17*B17+E17 -> 9.7
B18: 3 | C18: Produto 3 | E18: 5.7 | F18: 2 | G18: =F18*B18+E18 -> 11.7
B21: Quantidade | C21: Produtos | E21: Frete | F21: Vlr. Unitário | G21: Total
B22: =SUM(B16:B18) -> 6 | C22: =COUNTA(C16:D18) -> 3 | E22: =SUM(E16:E18) -> 17.1 | F22: =SUM(F16:F18) -> 44 | G22: =SUM(G16:H18) -> 67.1

Sheet Preços
B1: Sua logo | C1: Nome alterável em preços
C2: Rua, Número - Bairro - CEP - Cidade/Estado
B5: TABELA DE PREÇOS
B7: Imagem | C7: Descrição | E7: Preço
C8: Decorativa | E8: =Caixa!K42 -> 26.85111
C9: Pote pequeno | E9: =Caixa!K43 -> 33.067036
C10: Pote médio | E10: =Caixa!K44 -> 41.650934
C11: Pote grande | E11: =Caixa!K45 -> 47.570864
C12: Especial | E12: =Caixa!K46 -> 0

Sheet Agenda

Sheet Calendário
C2: Mês/ano
C4: Domingo | D4: Segunda-feira | E4: Terça-feira | F4: Quarta-feira | G4: Quinta-feira | H4: Sexta-feira | I4: Sábado
G5: 1 | H5: 2 | I5: 3
C7: 4 | D7: 5 | E7: 6 | F7: 7 | G7: 8 | H7: 9 | I7: 10
C9: 11 | D9: 12 | E9: 13 | F9: 14 | G9: 15 | H9: 16 | I9: 17
C11: 18 | D11: 19 | E11: 20 | F11: 21 | G11: 22 | H11: 23 | I11: 24
C13: 25 | D13: 26 | E13: 27 | F13: 28 | G13: 29 | H13: 30 | I13: 31

Sheet Cloud Excel
A6: 1. | B6: Este arquivo digital pertence a Cloud Excel, e por meio desta, é revendida para terceiros.
A7: 2. | B7: Você não está autorizado a copiar, burlar ou revender qualquer conteúdo que se faz presente neste arquivo digital.
A8: 3. | B8: Ao comprar o arquivo digital, você não terá direito de contestar a compra, a não ser que prove que nosso arquivo está com graves problemas ou que sua compra foi feita por terceiros em seu nome.
A9: 4. | B9: Você terá direito a apoio e auxílio no uso do arquivo, por meio de nosso site (chat disponível para uso 24 horas por dia).
A10: 5. | B10: Recomendamos que você tenha uma experiência básica no aplicativo Excel para utilizar nossos produtos, porém não é obrigatório.
A11: 6. | B11: Você não está autorizado a apagar, mover ou modificar a planilha "Cloud Excel".
D13: © | E13: Cloud Excel, 2026
